BEGIN:VCALENDAR
VERSION:2.0
PRODID:-//Drupal iCal API//EN
X-WR-CALNAME:Events items teaser
X-WR-TIMEZONE:America/Toronto
BEGIN:VTIMEZONE
TZID:America/Toronto
X-LIC-LOCATION:America/Toronto
BEGIN:DAYLIGHT
TZNAME:EDT
TZOFFSETFROM:-0500
TZOFFSETTO:-0400
DTSTART:20250309T070000
END:DAYLIGHT
BEGIN:STANDARD
TZNAME:EST
TZOFFSETFROM:-0400
TZOFFSETTO:-0500
DTSTART:20251102T060000
END:STANDARD
END:VTIMEZONE
BEGIN:VEVENT
UID:69e2a4c57b281
DTSTART;TZID=America/Toronto:20251112T130000
SEQUENCE:0
TRANSP:TRANSPARENT
DTEND;TZID=America/Toronto:20251112T160000
URL:https://uwaterloo.ca/current-graduate-students/events/rock-your-thesis-
 1-plan-your-project
LOCATION:TC - William M. Tatham Centre for Co-operative Education &amp; Career 
 Action 200 University Avenue West Room: TH 2218 Waterloo ON N2L 3G1 Canada
SUMMARY:Rock Your Thesis 1: Plan Your Project
CLASS:PUBLIC
DESCRIPTION:The first in the three-part 'Rock Your Thesis' series\, this 
 workshop\nwill help you clarify your direction and develop a practical pla
 n for\nsuccessfully executing a large academic writing project\, such as
  a\nthesis or dissertation.  
DTSTAMP:20260417T212317Z
END:VEVENT
END:VCALENDAR