BEGIN:VCALENDAR
VERSION:2.0
PRODID:-//Drupal iCal API//EN
X-WR-CALNAME:Events items teaser
X-WR-TIMEZONE:America/Toronto
BEGIN:VTIMEZONE
TZID:America/Toronto
X-LIC-LOCATION:America/Toronto
BEGIN:DAYLIGHT
TZNAME:EDT
TZOFFSETFROM:-0500
TZOFFSETTO:-0400
DTSTART:20250309T070000
END:DAYLIGHT
BEGIN:STANDARD
TZNAME:EST
TZOFFSETFROM:-0400
TZOFFSETTO:-0500
DTSTART:20251102T060000
END:STANDARD
END:VTIMEZONE
BEGIN:VEVENT
UID:69e2a4c5c9c85
DTSTART;TZID=America/Toronto:20251121T110000
SEQUENCE:0
TRANSP:TRANSPARENT
DTEND;TZID=America/Toronto:20251121T130000
URL:https://uwaterloo.ca/current-graduate-students/events/publishing-academ
 ic-journals-workshop-graduate-students
SUMMARY:Publishing in Academic Journals: A workshop for graduate students
CLASS:PUBLIC
DESCRIPTION:This interactive workshop will share strategies for meeting you
 r\npublishing goals. You’ll learn about factors to consider in\nselectin
 g a target journal\, working with co-authors and making\nprogress on your 
 article draft\, decoding editors’ decision letters\,\nand responding to 
 reviewers’ feedback and revising your article.
DTSTAMP:20260417T212317Z
END:VEVENT
END:VCALENDAR