BEGIN:VCALENDAR
VERSION:2.0
PRODID:-//Drupal iCal API//EN
X-WR-CALNAME:Events items teaser
X-WR-TIMEZONE:America/Toronto
BEGIN:VTIMEZONE
TZID:America/Toronto
X-LIC-LOCATION:America/Toronto
BEGIN:DAYLIGHT
TZNAME:EDT
TZOFFSETFROM:-0500
TZOFFSETTO:-0400
DTSTART:20250309T070000
END:DAYLIGHT
BEGIN:STANDARD
TZNAME:EST
TZOFFSETFROM:-0400
TZOFFSETTO:-0500
DTSTART:20251102T060000
END:STANDARD
END:VTIMEZONE
BEGIN:VEVENT
UID:69e2ae918c384
DTSTART;TZID=America/Toronto:20260303T130000
SEQUENCE:0
TRANSP:TRANSPARENT
DTEND;TZID=America/Toronto:20260303T150000
URL:https://uwaterloo.ca/current-graduate-students/events/systematic-and-sc
 oping-reviews-systematic-search-methods-0
SUMMARY:Systematic and Scoping Reviews: Systematic Search Methods
CLASS:PUBLIC
DESCRIPTION:This workshop outlines the expectations of a systematic search 
 and\nprovides practical experience in developing a search methodology that
 \nmeets systematic standards.    
DTSTAMP:20260417T220505Z
END:VEVENT
END:VCALENDAR