BEGIN:VCALENDAR
VERSION:2.0
PRODID:-//Drupal iCal API//EN
X-WR-CALNAME:Events items teaser
X-WR-TIMEZONE:America/Toronto
BEGIN:VTIMEZONE
TZID:America/Toronto
X-LIC-LOCATION:America/Toronto
BEGIN:DAYLIGHT
TZNAME:EDT
TZOFFSETFROM:-0500
TZOFFSETTO:-0400
DTSTART:20250309T070000
END:DAYLIGHT
BEGIN:STANDARD
TZNAME:EST
TZOFFSETFROM:-0400
TZOFFSETTO:-0500
DTSTART:20251102T060000
END:STANDARD
END:VTIMEZONE
BEGIN:VEVENT
UID:69e2ae92e6d8a
DTSTART;TZID=America/Toronto:20260210T143000
SEQUENCE:0
TRANSP:TRANSPARENT
DTEND;TZID=America/Toronto:20260210T150000
URL:https://uwaterloo.ca/current-graduate-students/events/gis-speed-run-ses
 sions-creating-map-layouts
SUMMARY:GIS Speed Run Sessions: Creating Map Layouts
CLASS:PUBLIC
DESCRIPTION:Learn how to create a stylish map layout for print or digital\n
 publication. 
DTSTAMP:20260417T220506Z
END:VEVENT
END:VCALENDAR