BEGIN:VCALENDAR
VERSION:2.0
PRODID:-//Drupal iCal API//EN
X-WR-CALNAME:Events items teaser
X-WR-TIMEZONE:America/Toronto
BEGIN:VTIMEZONE
TZID:America/Toronto
X-LIC-LOCATION:America/Toronto
BEGIN:DAYLIGHT
TZNAME:EDT
TZOFFSETFROM:-0500
TZOFFSETTO:-0400
DTSTART:20250309T070000
END:DAYLIGHT
BEGIN:DAYLIGHT
TZNAME:EDT
TZOFFSETFROM:-0500
TZOFFSETTO:-0400
DTSTART:20260308T070000
END:DAYLIGHT
BEGIN:STANDARD
TZNAME:EST
TZOFFSETFROM:-0400
TZOFFSETTO:-0500
DTSTART:20251102T060000
END:STANDARD
END:VTIMEZONE
BEGIN:VEVENT
UID:69e2ae93c3304
DTSTART;VALUE=DATE:20260302
SEQUENCE:0
TRANSP:TRANSPARENT
DTEND;VALUE=DATE:20260317
URL:https://uwaterloo.ca/current-graduate-students/events/social-anxiety-cl
 assroom
SUMMARY:Social Anxiety in the Classroom
CLASS:PUBLIC
DESCRIPTION:Develop a toolkit of strategies to help support the learning of
 \nstudents with social anxiety\, which can be implemented into your role\n
 as a TA. 
X-MICROSOFT-CDO-ALLDAYEVENT:TRUE
DTSTAMP:20260417T220507Z
END:VEVENT
END:VCALENDAR