BEGIN:VCALENDAR
VERSION:2.0
PRODID:-//Drupal iCal API//EN
X-WR-CALNAME:Events items teaser
X-WR-TIMEZONE:America/Toronto
BEGIN:VTIMEZONE
TZID:America/Toronto
X-LIC-LOCATION:America/Toronto
BEGIN:DAYLIGHT
TZNAME:EDT
TZOFFSETFROM:-0500
TZOFFSETTO:-0400
DTSTART:20260308T070000
END:DAYLIGHT
BEGIN:STANDARD
TZNAME:EST
TZOFFSETFROM:-0400
TZOFFSETTO:-0500
DTSTART:20251102T060000
END:STANDARD
END:VTIMEZONE
BEGIN:VEVENT
UID:69e2ae945a3e3
DTSTART;TZID=America/Toronto:20260416T130000
SEQUENCE:0
TRANSP:TRANSPARENT
DTEND;TZID=America/Toronto:20260416T140000
URL:https://uwaterloo.ca/current-graduate-students/events/rock-your-thesis-
 3-revise-and-submit
LOCATION:SLC - Student Life Centre 200 University Avenue West GSA Lounge Wa
 terloo ON N2L 3G1 Canada
SUMMARY:Rock Your Thesis 3: Revise and Submit
CLASS:PUBLIC
DESCRIPTION:This workshop will equip you with the skills you need to revise
  your\nthesis or dissertation draft and plan to submit and defend it. 
DTSTAMP:20260417T220508Z
END:VEVENT
END:VCALENDAR