BEGIN:VCALENDAR
VERSION:2.0
PRODID:-//Drupal iCal API//EN
X-WR-CALNAME:Events items teaser
X-WR-TIMEZONE:America/Toronto
BEGIN:VTIMEZONE
TZID:America/Toronto
X-LIC-LOCATION:America/Toronto
BEGIN:DAYLIGHT
TZNAME:EDT
TZOFFSETFROM:-0500
TZOFFSETTO:-0400
DTSTART:20260308T070000
END:DAYLIGHT
BEGIN:STANDARD
TZNAME:EST
TZOFFSETFROM:-0400
TZOFFSETTO:-0500
DTSTART:20251102T060000
END:STANDARD
END:VTIMEZONE
BEGIN:VEVENT
UID:69e2a9b3a9dd0
DTSTART;TZID=America/Toronto:20260423T133000
SEQUENCE:0
TRANSP:TRANSPARENT
DTEND;TZID=America/Toronto:20260423T160000
URL:https://uwaterloo.ca/current-graduate-students/events/design-and-delive
 r-grad-studio-planning-and-preparing
LOCATION:GSA Lounge (SLC 3216) 200 University Avenue West Waterloo ON N2L 3
 G1 Canada
SUMMARY:Design and Deliver Grad Studio: Planning for and Preparing\nPresent
 ations
CLASS:PUBLIC
DESCRIPTION:In this workshop\, we’ll discuss what makes an effective\npre
 sentation\, help you organize your ideas\, and give you concrete\nstrategi
 es for delivering that information with confidence.
DTSTAMP:20260417T214419Z
END:VEVENT
END:VCALENDAR