BEGIN:VCALENDAR
VERSION:2.0
PRODID:-//Drupal iCal API//EN
X-WR-CALNAME:Events items teaser
X-WR-TIMEZONE:America/Toronto
BEGIN:VTIMEZONE
TZID:America/Toronto
X-LIC-LOCATION:America/Toronto
BEGIN:DAYLIGHT
TZNAME:EDT
TZOFFSETFROM:-0500
TZOFFSETTO:-0400
DTSTART:20260308T070000
END:DAYLIGHT
BEGIN:STANDARD
TZNAME:EST
TZOFFSETFROM:-0400
TZOFFSETTO:-0500
DTSTART:20251102T060000
END:STANDARD
END:VTIMEZONE
BEGIN:VEVENT
UID:69e2ae9544611
DTSTART;TZID=America/Toronto:20260507T133000
SEQUENCE:0
TRANSP:TRANSPARENT
DTEND;TZID=America/Toronto:20260507T160000
URL:https://uwaterloo.ca/current-graduate-students/events/design-and-delive
 r-grad-studio-designing-slides
LOCATION:GSA Lounge (SLC 3216) 200 University Avenue West Waterloo ON N2L 3
 G1 Canada
SUMMARY:Design and Deliver Grad Studio: Designing Slides
CLASS:PUBLIC
DESCRIPTION:In this workshop\, we’ll cover the basics of designing slides
  for\nacademic presentations\, introduce you to the Assertion-Evidence mod
 el\,\nand provide concrete strategies to make your slides engaging and\nus
 eful for your audience.
DTSTAMP:20260417T220509Z
END:VEVENT
END:VCALENDAR