BEGIN:VCALENDAR
VERSION:2.0
PRODID:-//Drupal iCal API//EN
X-WR-CALNAME:Events items teaser
X-WR-TIMEZONE:America/Toronto
BEGIN:VTIMEZONE
TZID:America/Toronto
X-LIC-LOCATION:America/Toronto
BEGIN:DAYLIGHT
TZNAME:EDT
TZOFFSETFROM:-0500
TZOFFSETTO:-0400
DTSTART:20260308T070000
END:DAYLIGHT
BEGIN:STANDARD
TZNAME:EST
TZOFFSETFROM:-0400
TZOFFSETTO:-0500
DTSTART:20251102T060000
END:STANDARD
END:VTIMEZONE
BEGIN:VEVENT
UID:69eb75e432484
DTSTART;TZID=America/Toronto:20260507T130000
SEQUENCE:0
TRANSP:TRANSPARENT
DTEND;TZID=America/Toronto:20260507T140000
URL:https://uwaterloo.ca/current-graduate-students/events/travelling-safely
 -protecting-your-research-while-travelling
SUMMARY:Travelling Safely: Protecting Your Research While Travelling Abroad
CLASS:PUBLIC
DESCRIPTION:This module provides a global overview of the threat environmen
 t when\ntravelling.
DTSTAMP:20260424T135340Z
END:VEVENT
END:VCALENDAR