BEGIN:VCALENDAR
VERSION:2.0
PRODID:-//Drupal iCal API//EN
X-WR-CALNAME:Events items teaser
X-WR-TIMEZONE:America/Toronto
BEGIN:VTIMEZONE
TZID:America/Toronto
X-LIC-LOCATION:America/Toronto
BEGIN:DAYLIGHT
TZNAME:EDT
TZOFFSETFROM:-0500
TZOFFSETTO:-0400
DTSTART:20260308T070000
END:DAYLIGHT
BEGIN:STANDARD
TZNAME:EST
TZOFFSETFROM:-0400
TZOFFSETTO:-0500
DTSTART:20251102T060000
END:STANDARD
END:VTIMEZONE
BEGIN:VEVENT
UID:69ea4c7202ac0
DTSTART;TZID=America/Toronto:20260604T130000
SEQUENCE:0
TRANSP:TRANSPARENT
DTEND;TZID=America/Toronto:20260604T140000
URL:https://uwaterloo.ca/current-graduate-students/events/protecting-knowle
 dge-research-security-social-sciences-and
SUMMARY:Protecting Knowledge: Research Security in Social Sciences and\nHum
 anities
CLASS:PUBLIC
DESCRIPTION:This module highlights the importance of research security in t
 he\nsocial sciences and humanities for analyzing and managing complex\nsec
 urity challenges.
DTSTAMP:20260423T164434Z
END:VEVENT
BEGIN:VEVENT
UID:69ea4c7205647
DTSTART;TZID=America/Toronto:20260507T130000
SEQUENCE:0
TRANSP:TRANSPARENT
DTEND;TZID=America/Toronto:20260507T140000
URL:https://uwaterloo.ca/current-graduate-students/events/travelling-safely
 -protecting-your-research-while-travelling
SUMMARY:Travelling Safely: Protecting Your Research While Travelling Abroad
CLASS:PUBLIC
DESCRIPTION:This module provides a global overview of the threat environmen
 t when\ntravelling.
DTSTAMP:20260423T164434Z
END:VEVENT
BEGIN:VEVENT
UID:69ea4c7206014
DTSTART;TZID=America/Toronto:20260609T130000
SEQUENCE:0
TRANSP:TRANSPARENT
DTEND;TZID=America/Toronto:20260609T140000
URL:https://uwaterloo.ca/current-graduate-students/events/demystifying-inte
 rnational-student-immigration-process
SUMMARY:Demystifying the International Student Immigration Process
CLASS:PUBLIC
DESCRIPTION:This module provides insight on the immigration process for\nin
 ternational students and explains how prospective applicants are\nsecurity
  screened for admissibility.
DTSTAMP:20260423T164434Z
END:VEVENT
BEGIN:VEVENT
UID:69ea4c720694c
DTSTART;TZID=America/Toronto:20260527T130000
SEQUENCE:0
TRANSP:TRANSPARENT
DTEND;TZID=America/Toronto:20260527T143000
URL:https://uwaterloo.ca/current-graduate-students/events/gradnavigate-tack
 ling-phd-defence
SUMMARY:GRADnavigate: Tackling the PhD Defence
CLASS:PUBLIC
DESCRIPTION:Get practical guidance on how to prepare for a successful disse
 rtation\ndefence.
DTSTAMP:20260423T164434Z
END:VEVENT
BEGIN:VEVENT
UID:69ea4c720719b
DTSTART;TZID=America/Toronto:20260623T130000
SEQUENCE:0
TRANSP:TRANSPARENT
DTEND;TZID=America/Toronto:20260623T143000
URL:https://uwaterloo.ca/current-graduate-students/events/gradnavigate-demy
 stifying-comprehensive-and-qualifying-exams
LOCATION:NH 2001 - Ira G. Needles Hall 200 University Avenue West Waterloo 
 ON N2L 3G1 Canada
SUMMARY:GRADnavigate: Demystifying Comprehensive and Qualifying Exams
CLASS:PUBLIC
DESCRIPTION:Learn how to prepare for one of the biggest milestones in your\
 nprogram.
DTSTAMP:20260423T164434Z
END:VEVENT
BEGIN:VEVENT
UID:69ea4c720865b
DTSTART;TZID=America/Toronto:20260721T170000
SEQUENCE:0
TRANSP:TRANSPARENT
DTEND;TZID=America/Toronto:20260721T183000
URL:https://uwaterloo.ca/current-graduate-students/events/gradnavigate-art-
 saying-no
LOCATION:CLV Community Centre - Columbia Lake Village 350 Columbia Street W
 est Waterloo ON N2L 6G8 Canada
SUMMARY:GRADnavigate: The Art of Saying ‘No’
CLASS:PUBLIC
DESCRIPTION:Explore decision-making strategies for deciding when to say \"y
 es\" and\nwhen to say \"no\" to different opportunities and events\, as we
 ll as\nsuggestions and tips for conveying your decision.
DTSTAMP:20260423T164434Z
END:VEVENT
BEGIN:VEVENT
UID:69ea4c720912f
DTSTART;TZID=America/Toronto:20260813T140000
SEQUENCE:0
TRANSP:TRANSPARENT
DTEND;TZID=America/Toronto:20260813T153000
URL:https://uwaterloo.ca/current-graduate-students/events/gradnavigate-fina
 l-year
SUMMARY:GRADnavigate: The Final Year
CLASS:PUBLIC
DESCRIPTION:Prepare to navigate the final year of your graduate degree and 
 life\nafter graduation.
DTSTAMP:20260423T164434Z
END:VEVENT
BEGIN:VEVENT
UID:69ea4c72099aa
DTSTART;TZID=America/Toronto:20260423T130000
SEQUENCE:0
TRANSP:TRANSPARENT
DTEND;TZID=America/Toronto:20260423T140000
URL:https://uwaterloo.ca/current-graduate-students/events/design-and-delive
 r-grad-studio
LOCATION:SLC 3216 (GSA Lounge) - Student Life Centre 200 University Avenue 
 West Waterloo ON N2L 3G1 Canada
SUMMARY:Design and Deliver Grad Studio
CLASS:PUBLIC
DESCRIPTION:Discuss what makes an effective presentation\, get help organiz
 ing your\nideas\, and learn concrete strategies for delivering information
  with\nconfidence.
DTSTAMP:20260423T164434Z
END:VEVENT
BEGIN:VEVENT
UID:69ea4c720a44f
DTSTART;TZID=America/Toronto:20260422T120000
SEQUENCE:0
TRANSP:TRANSPARENT
DTEND;TZID=America/Toronto:20260422T133000
URL:https://uwaterloo.ca/current-graduate-students/events/w3-holding-it-tog
 ether
LOCATION:GH - Graduate House (Upper floor) 200 University Avenue West Water
 loo ON N2L 3G1 Canada
SUMMARY:W3+ Holding it Together
CLASS:PUBLIC
DESCRIPTION:W3+ (Waterloo Womxn + Nonbinary Wednesdays) opens the floor for
 \nconnection and discussion on the best ways to \"hold it together\"\nduri
 ng difficult times. 
DTSTAMP:20260423T164434Z
END:VEVENT
BEGIN:VEVENT
UID:69ea4c720af8a
DTSTART;TZID=America/Toronto:20260413T140000
SEQUENCE:0
TRANSP:TRANSPARENT
DTEND;TZID=America/Toronto:20260413T160000
URL:https://uwaterloo.ca/current-graduate-students/events/english-does-not-
 tilt-conversation-about-identity-linguistic
LOCATION:LIB 323 - Dana Porter Library 200 University Avenue West Waterloo 
 ON N2L 3G1 Canada
SUMMARY:The English Does Not Tilt: A conversation about identity\, linguist
 ic\njustice\, and academic writing
CLASS:PUBLIC
DESCRIPTION:Join the Writing and Communication Centre for an event with\naw
 ard‑winning Afrosurrealist and Afrofuturist storyteller Shingai\nNjeri K
 agunda. 
DTSTAMP:20260423T164434Z
END:VEVENT
END:VCALENDAR