BEGIN:VCALENDAR
VERSION:2.0
PRODID:-//Drupal iCal API//EN
X-WR-CALNAME:Events items teaser
X-WR-TIMEZONE:America/Toronto
BEGIN:VTIMEZONE
TZID:America/Toronto
X-LIC-LOCATION:America/Toronto
BEGIN:DAYLIGHT
TZNAME:EDT
TZOFFSETFROM:-0500
TZOFFSETTO:-0400
DTSTART:20250309T070000
END:DAYLIGHT
BEGIN:STANDARD
TZNAME:EST
TZOFFSETFROM:-0400
TZOFFSETTO:-0500
DTSTART:20241103T060000
END:STANDARD
END:VTIMEZONE
BEGIN:VEVENT
UID:69e701d1a3bbe
DTSTART;TZID=America/Toronto:20251031T090000
SEQUENCE:0
TRANSP:TRANSPARENT
DTEND;TZID=America/Toronto:20251031T100000
URL:https://uwaterloo.ca/cyber-awareness/events/halloween-cybersecurity-clo
 se-out
SUMMARY:Halloween Cybersecurity Close-Out
CLASS:PUBLIC
DESCRIPTION:End Cyber Awareness Month with a special Halloween-themed sessi
 on.\nWe’ll revisit one of the most chilling real-world cyber-attacks of\
 n2024 — the PowerSchool breach\, a true horror tale to haunt IT teams.\n
 We’ll break down what went wrong\, the ripple effects\, and the\nlessons
  learned.  \n\nKeep a lookout for the PDAG email registration. To receiv
 e an e-mail\nabout upcoming PDAG seminars\, including a link to join the s
 ession and\n.ical file\, please subscribe to the istprofdev mailman list
 \n[https://lists.uwaterloo.ca/mailman/listinfo/istprofdev]. 
DTSTAMP:20260421T044921Z
END:VEVENT
END:VCALENDAR