BEGIN:VCALENDAR
VERSION:2.0
PRODID:-//Drupal iCal API//EN
X-WR-CALNAME:Events items teaser
X-WR-TIMEZONE:America/Toronto
BEGIN:VTIMEZONE
TZID:America/Toronto
X-LIC-LOCATION:America/Toronto
BEGIN:DAYLIGHT
TZNAME:EDT
TZOFFSETFROM:-0500
TZOFFSETTO:-0400
DTSTART:20250309T070000
END:DAYLIGHT
BEGIN:STANDARD
TZNAME:EST
TZOFFSETFROM:-0400
TZOFFSETTO:-0500
DTSTART:20241103T060000
END:STANDARD
END:VTIMEZONE
BEGIN:VEVENT
UID:69e7298ded3ab
DTSTART;TZID=America/Toronto:20251023T140000
SEQUENCE:0
TRANSP:TRANSPARENT
DTEND;TZID=America/Toronto:20251023T150000
URL:https://uwaterloo.ca/cyber-awareness/events/cybersecurity-staff-faculty
SUMMARY:Cybersecurity for Staff &amp; Faculty
CLASS:PUBLIC
DESCRIPTION:Learn about today’s most common cyber threats against univers
 ities\nand how to protect your work\, research\, and personal information 
 with\nWaterloo’s tools and best practices. \n\nEVENT REGISTRATION\n[htt
 ps://events.teams.microsoft.com/event/8231a975-5da1-45d4-b892-4155338cb795
 @723a5a87-f39a-4a22-9247-3fc240c01396]
DTSTAMP:20260421T073853Z
END:VEVENT
END:VCALENDAR