BEGIN:VCALENDAR
VERSION:2.0
PRODID:-//Drupal iCal API//EN
X-WR-CALNAME:Events items teaser
X-WR-TIMEZONE:America/Toronto
BEGIN:VTIMEZONE
TZID:America/Toronto
X-LIC-LOCATION:America/Toronto
BEGIN:DAYLIGHT
TZNAME:EDT
TZOFFSETFROM:-0500
TZOFFSETTO:-0400
DTSTART:20200308T070000
END:DAYLIGHT
BEGIN:STANDARD
TZNAME:EST
TZOFFSETFROM:-0400
TZOFFSETTO:-0500
DTSTART:20191103T060000
END:STANDARD
END:VTIMEZONE
BEGIN:VEVENT
UID:69ea7a5f48914
DTSTART;TZID=America/Toronto:20201015T120000
SEQUENCE:0
TRANSP:TRANSPARENT
DTEND;TZID=America/Toronto:20201015T133000
URL:https://uwaterloo.ca/cybersecurity-privacy-institute/events/trustworthy
 -ai-security-privacy-and-ethics
LOCATION:Webex
SUMMARY:Trustworthy AI security\, privacy\, and ethics
CLASS:PUBLIC
DESCRIPTION:There is a growing need for cybersecurity and privacy solutions
 \nas the digital economy grows. To create world-leading cryptography\nan
 d privacy technologies\, academia\, industry and government are\ndrawing
  on transformational research and collaborative energy to\nprotect user da
 ta. 
DTSTAMP:20260423T200031Z
END:VEVENT
END:VCALENDAR