BEGIN:VCALENDAR
VERSION:2.0
PRODID:-//Drupal iCal API//EN
X-WR-CALNAME:Events items teaser
X-WR-TIMEZONE:America/Toronto
BEGIN:VTIMEZONE
TZID:America/Toronto
X-LIC-LOCATION:America/Toronto
BEGIN:DAYLIGHT
TZNAME:EDT
TZOFFSETFROM:-0500
TZOFFSETTO:-0400
DTSTART:20260308T070000
END:DAYLIGHT
BEGIN:DAYLIGHT
TZNAME:EDT
TZOFFSETFROM:-0500
TZOFFSETTO:-0400
DTSTART:20250309T070000
END:DAYLIGHT
BEGIN:DAYLIGHT
TZNAME:EDT
TZOFFSETFROM:-0500
TZOFFSETTO:-0400
DTSTART:20240310T070000
END:DAYLIGHT
BEGIN:DAYLIGHT
TZNAME:EDT
TZOFFSETFROM:-0500
TZOFFSETTO:-0400
DTSTART:20230312T070000
END:DAYLIGHT
BEGIN:STANDARD
TZNAME:EST
TZOFFSETFROM:-0400
TZOFFSETTO:-0500
DTSTART:20251102T060000
END:STANDARD
BEGIN:STANDARD
TZNAME:EST
TZOFFSETFROM:-0400
TZOFFSETTO:-0500
DTSTART:20241103T060000
END:STANDARD
BEGIN:STANDARD
TZNAME:EST
TZOFFSETFROM:-0400
TZOFFSETTO:-0500
DTSTART:20231105T060000
END:STANDARD
BEGIN:STANDARD
TZNAME:EST
TZOFFSETFROM:-0400
TZOFFSETTO:-0500
DTSTART:20221106T060000
END:STANDARD
END:VTIMEZONE
BEGIN:VEVENT
UID:69d85e7390599
DTSTART;TZID=America/Toronto:20260423T143000
SEQUENCE:0
TRANSP:TRANSPARENT
DTEND;TZID=America/Toronto:20260423T160000
URL:https://uwaterloo.ca/cybersecurity-privacy-institute/events/cpi-talk-in
 timate-images-deep-fakes-and-law
LOCATION:EC5 - East Campus 5\, Enterprise Theatre\, University of Waterloo 
 305 Phillip St. Waterloo ON N2L 3W8 Canada
SUMMARY:CPI Talk: Intimate Images\, Deep Fakes and the Law
CLASS:PUBLIC
DESCRIPTION:CPI is pleased to announce the return of CPI Talks - a public o
 utreach\nlecture series.\n\nThis month's talk features Susan Lindsay on I
 ntimate Images\, Deep\nFakes and the Law.
DTSTAMP:20260410T022035Z
END:VEVENT
BEGIN:VEVENT
UID:69d85e7393557
DTSTART;TZID=America/Toronto:20260330T080000
SEQUENCE:0
TRANSP:TRANSPARENT
DTEND;TZID=America/Toronto:20260330T163000
URL:https://uwaterloo.ca/cybersecurity-privacy-institute/events/2026-gradua
 te-student-conference
LOCATION:EC5 - East Campus 5 305 Phillip St. Waterloo ON N2L 5Z5 Canada
SUMMARY:2026 Graduate Student Conference
CLASS:PUBLIC
DESCRIPTION:Save the date for the University of Waterloo Cybersecurity and 
 Privacy\nInstitute’s (CPI) 2nd Graduate Student Conference on Monday\, M
 arch\n30\, 2026. This full-day conference will be hosted at the Waterloo\n
 campus on the 1st floor of the East Campus (EC5) building. Attendees\nwill
  have the cost-free opportunity to network with peers\, faculty and\nindus
 try\, discover innovative research on cybersecurity and privacy\ntopics\, 
 hear from experts in the field\, and more! 
DTSTAMP:20260410T022035Z
END:VEVENT
BEGIN:VEVENT
UID:69d85e73943fc
DTSTART;TZID=America/Toronto:20251024T120000
SEQUENCE:0
TRANSP:TRANSPARENT
DTEND;TZID=America/Toronto:20251024T130000
URL:https://uwaterloo.ca/cybersecurity-privacy-institute/events/webinar-tow
 ards-trustworthy-ai-cybersecurity-and-privacy
SUMMARY:Webinar | Towards Trustworthy AI: Cybersecurity and Privacy Concern
 s
CLASS:PUBLIC
DESCRIPTION:Join our free webinar on October 24\, 2025 from 12 noon to 1 p.
 m. EST\nto deepen your understanding of trustworthy AI and safeguard your\
 nsystems against emerging threats.
DTSTAMP:20260410T022035Z
END:VEVENT
BEGIN:VEVENT
UID:69d85e7394e61
DTSTART;TZID=America/Toronto:20251028T080000
SEQUENCE:0
TRANSP:TRANSPARENT
DTEND;TZID=America/Toronto:20251028T170000
URL:https://uwaterloo.ca/cybersecurity-privacy-institute/events/2025-cybers
 ecurity-and-privacy-institute-annual-conference
LOCATION:FED - Federation Hall 200 University Avenue West Waterloo ON N2L 3
 G1 Canada
SUMMARY:2025 Cybersecurity and Privacy Institute Annual Conference
CLASS:PUBLIC
DESCRIPTION:Secure your spot for the University of Waterloo Cybersecurity 
 and\nPrivacy Institute's (CPI) signature event of the year during Cyber\nM
 onth in Canada. Tuesday\, October 28\, 2025 inside Federation Hall on\ncam
 pus.
DTSTAMP:20260410T022035Z
END:VEVENT
BEGIN:VEVENT
UID:69d85e7395a8e
DTSTART;TZID=America/Toronto:20250327T080000
SEQUENCE:0
TRANSP:TRANSPARENT
DTEND;TZID=America/Toronto:20250327T170000
URL:https://uwaterloo.ca/cybersecurity-privacy-institute/events/2025-gradua
 te-student-conference
LOCATION:E7 - Engineering 7 200 University Ave West 7th Floor\, Room 7303/7
 363 Waterloo ON N2L 3G1 Canada
SUMMARY:2025 Graduate Student Conference
CLASS:PUBLIC
DESCRIPTION:Secure your spot for the University of Waterloo Cybersecurity a
 nd\nPrivacy Institute’s (CPI) inaugural Graduate Student Conference\, in
 \npartnership with Graduate Studies and Postdoctoral Affairs\, on\nThursda
 y\, March 27\, 2025. This full-day conference will be hosted at\nthe Water
 loo campus on the 7th floor of the Engineering 7 (E7)\nbuilding. Thanks to
  the generous sponsors of the event\, attendees will\nhave the cost-free o
 pportunity to network with peers\, faculty and\nindustry\, discover innova
 tive research on cybersecurity and privacy\ntopics\, hear from experts in 
 the field\, and more! Reserve your seat\ntoday. 
DTSTAMP:20260410T022035Z
END:VEVENT
BEGIN:VEVENT
UID:69d85e739672d
DTSTART;VALUE=DATE:20240926
SEQUENCE:0
TRANSP:TRANSPARENT
DTEND;VALUE=DATE:20240927
URL:https://uwaterloo.ca/cybersecurity-privacy-institute/events/securing-ca
 nadas-digital-future-role-cybersecurity
LOCATION:67 Yonge Street Suite 300 Toronto ON M5E 1J8 Canada
SUMMARY:Securing Canada’s Digital Future: The Role of Cybersecurity
CLASS:PUBLIC
DESCRIPTION:On Thursday\, September 26th\, the C.D. Howe Institute and the\
 nUniversity of Waterloo Cybersecurity &amp; Privacy Institute will host a\npol
 icy conference on “Securing Canada’s Digital Future: The Role\nof Cybe
 rsecurity”. \n\nThis conference brings together leading policy\, indust
 ry\, and academic\nexperts to address the intersection of cybersecurity an
 d public\npolicy\, offering insights into the strategies essential to secu
 re\nCanada’s digital future.
X-MICROSOFT-CDO-ALLDAYEVENT:TRUE
DTSTAMP:20260410T022035Z
END:VEVENT
BEGIN:VEVENT
UID:69d85e73973b1
DTSTART;TZID=America/Toronto:20241010T083000
SEQUENCE:0
TRANSP:TRANSPARENT
DTEND;TZID=America/Toronto:20241010T173000
URL:https://uwaterloo.ca/cybersecurity-privacy-institute/events/2024-cybers
 ecurity-and-privacy-institute-annual-conference
LOCATION:FED - Federation Hall 200 University Avenue West Waterloo ON N2L 3
 G1 Canada
SUMMARY:2024 Cybersecurity and Privacy Institute Annual Conference
CLASS:PUBLIC
DESCRIPTION:WELCOME TO THE 2024 CYBERSECURITY AND PRIVACY INSTITUTE ANNUAL\
 nCONFERENCE.\n\nThe University of Waterloo Cybersecurity and Privacy Insti
 tute is\nproud to host its Annual Conference\n[https://uwaterloo.ca/cybers
 ecurity-privacy-institute/2024conference]\non THURSDAY OCTOBER 10\, FROM 8
 :30 AM TO 5:30 PM\, at FEDERATION HALL on\nthe University of Waterloo Camp
 us. \n\nThis event centres on our theme\, TACKLING CANADA’S CYBERSECURIT
 Y\nCHALLENGES_\,_ which will highlight current and future efforts within\
 nthe cybersecurity and privacy sphere\, with keynote speakers\, panel\ndis
 cussions\, and industry talks. This conference is open to\nundergraduate a
 nd graduate students\, faculty\, entrepreneurs\,\nstart-ups\, government\,
  sponsors\, and businesses.
DTSTAMP:20260410T022035Z
END:VEVENT
BEGIN:VEVENT
UID:69d85e73983db
DTSTART;TZID=America/Toronto:20240319T123000
SEQUENCE:0
TRANSP:TRANSPARENT
DTEND;TZID=America/Toronto:20240319T133000
URL:https://uwaterloo.ca/cybersecurity-privacy-institute/events/lets-deep-d
 ive-how-ediscovery-pros-make-generative-ai-their
SUMMARY:Let’s Deep Dive into How eDiscovery Pros Make Generative AI Their
 \nGreatest Asset Workshop
CLASS:PUBLIC
DESCRIPTION:When it comes to generative AI\, there seems to be a lingering 
 question\non top of every eDiscovery professional’s mind: are the robots
 \ncoming for my job? Generative AI\, technology that can autonomously\ncre
 ate different outputs\, is here to stay and while it has its\nlimitations\
 , this technology will only continue getting better.\n\nNow\, it’s not a
 ll doom and gloom from here. Generative AI’s rise\ndoesn’t equate to y
 our downfall. On the contrary\, we believe that\nindustry professionals ca
 n make generative AI their greatest asset. \n\nIn our upcoming workshop\, 
 we invite our community to come together to\nlearn how we can use generati
 ve AI to uplevel what we do.
DTSTAMP:20260410T022035Z
END:VEVENT
BEGIN:VEVENT
UID:69d85e7398df5
DTSTART;VALUE=DATE:20240608
SEQUENCE:0
TRANSP:TRANSPARENT
DTEND;VALUE=DATE:20240609
URL:https://uwaterloo.ca/cybersecurity-privacy-institute/events/eye-data-ai
 -summit
SUMMARY:Eye Data &amp; AI Summit
CLASS:PUBLIC
DESCRIPTION:The School of Optometry &amp; Vision Science\, alongside the Centre
  for\nBioengineering and Biotechnology (CBB)\, Waterloo.AI\, Cybersecurity
  and\nPrivacy Institute are hosting a full-day summit on SATURDAY\, JUNE
  8\,\n2024. Gathering experts in artificial intelligence\, cybersecurity a
 nd\nprivacy\, leaders from the optometry profession in Canada\, and indust
 ry\nto work collectively towards a national vision repository. Summit\nact
 ivities will include a combination of panel presentations and\nworkshops t
 o share use cases\, identify needs\, potential challenges and\nconsiderati
 ons required to develop infrastructure to receive\,\nde-identify and organ
 ize vision and health data by optometry. 
X-MICROSOFT-CDO-ALLDAYEVENT:TRUE
DTSTAMP:20260410T022035Z
END:VEVENT
BEGIN:VEVENT
UID:69d85e7399816
DTSTART;TZID=America/Toronto:20231012T083000
SEQUENCE:0
TRANSP:TRANSPARENT
DTEND;TZID=America/Toronto:20231012T183000
URL:https://uwaterloo.ca/cybersecurity-privacy-institute/events/2023-cybers
 ecurity-and-privacy-institute-annual-conference
LOCATION:FED - Federation Hall 200 University Avenue West Waterloo ON N2L 3
 G1 Canada
SUMMARY:2023 Cybersecurity and Privacy Institute Annual Conference
CLASS:PUBLIC
DESCRIPTION:This event centres on our theme\, _“PROTECTING DIVERSE APPLI
 CATION\nDOMAINS\"\,_ which will highlight current and future efforts with
 in the\ncybersecurity and privacy sphere\, with keynote speakers\, panel\n
 discussions\, and industry talks. This conference is open to\nundergraduat
 e and graduate students\, faculty\, entrepreneurs\, start\nups\, governmen
 t\, sponsors\, and businesses.
DTSTAMP:20260410T022035Z
END:VEVENT
END:VCALENDAR