BEGIN:VCALENDAR
VERSION:2.0
PRODID:-//Drupal iCal API//EN
X-WR-CALNAME:Events items teaser
X-WR-TIMEZONE:America/Toronto
BEGIN:VTIMEZONE
TZID:America/Toronto
X-LIC-LOCATION:America/Toronto
BEGIN:DAYLIGHT
TZNAME:EDT
TZOFFSETFROM:-0500
TZOFFSETTO:-0400
DTSTART:20200308T070000
END:DAYLIGHT
BEGIN:STANDARD
TZNAME:EST
TZOFFSETFROM:-0400
TZOFFSETTO:-0500
DTSTART:20191103T060000
END:STANDARD
END:VTIMEZONE
BEGIN:VEVENT
UID:69b1d1116887d
DTSTART;TZID=America/Toronto:20200615T103000
SEQUENCE:0
TRANSP:TRANSPARENT
DTEND;TZID=America/Toronto:20200615T103000
URL:https://uwaterloo.ca/defence-security-foresight-group/events/roll-out-5
 g-technology-threats-opportunities-and-subject
LOCATION:Canada
SUMMARY:Roll-out of 5G Technology: Threats\, Opportunities\, and Subject of
 \nDebate
CLASS:PUBLIC
DESCRIPTION:Join our Defence and Security Foresight Group (DSF-G) webinar o
 n the\nroll out of 5G technology in Canada. Our panelists will discuss th
 e\nimportance of 5G adoption to Canada’s competitiveness and its\ndigita
 l economy. They will also discuss some of the arguments found\nin public 
 and security sector debates about the threats and challenges\nof foreign o
 wnership of this key infrastructural development.
DTSTAMP:20260311T203113Z
END:VEVENT
END:VCALENDAR