BEGIN:VCALENDAR
VERSION:2.0
PRODID:-//Drupal iCal API//EN
X-WR-CALNAME:Events items teaser
X-WR-TIMEZONE:America/Toronto
BEGIN:VTIMEZONE
TZID:America/Toronto
X-LIC-LOCATION:America/Toronto
BEGIN:DAYLIGHT
TZNAME:EDT
TZOFFSETFROM:-0500
TZOFFSETTO:-0400
DTSTART:20220313T070000
END:DAYLIGHT
BEGIN:STANDARD
TZNAME:EST
TZOFFSETFROM:-0400
TZOFFSETTO:-0500
DTSTART:20211107T060000
END:STANDARD
BEGIN:STANDARD
TZNAME:EST
TZOFFSETFROM:-0400
TZOFFSETTO:-0500
DTSTART:20221106T060000
END:STANDARD
END:VTIMEZONE
BEGIN:VEVENT
UID:69e4ce083b189
DTSTART;VALUE=DATE:20220901
SEQUENCE:0
TRANSP:TRANSPARENT
DTEND;VALUE=DATE:20230101
URL:https://uwaterloo.ca/digital-intelligence-for-public-health/events/call
 -volunteers-informed-choice-project
SUMMARY:Call for volunteers: The Informed Choice Project
CLASS:PUBLIC
DESCRIPTION:The Informed Choice Project aims to leverage a Canada-wide netw
 ork of\nhealthcare workers and volunteers to tackle misinformation in the\
 nsocial media ecosystem. The approach involves volunteers engaging\ndirect
 ly with anti-vaccine posts and comments to curb the spread of\nmisinformat
 ion. If you have time to engage in 3-5 conversations on\nsocial media each
  week and attend several feedback meetings\, this is a\ngreat opportunity 
 to hone infodemic management skill.\n\nFind out more about the opportunity
  and apply here\n[https://docs.google.com/forms/d/e/1FAIpQLSdSbpaR0gtr4k_J
 Pju5YtfbkEyBMkaxy5ylAPYdcB9Ar_dz9w/viewform].\nThe deadline is rolling
X-MICROSOFT-CDO-ALLDAYEVENT:TRUE
DTSTAMP:20260419T124352Z
END:VEVENT
END:VCALENDAR