BEGIN:VCALENDAR
VERSION:2.0
PRODID:-//Drupal iCal API//EN
X-WR-CALNAME:Events items teaser
X-WR-TIMEZONE:America/Toronto
BEGIN:VTIMEZONE
TZID:America/Toronto
X-LIC-LOCATION:America/Toronto
BEGIN:DAYLIGHT
TZNAME:EDT
TZOFFSETFROM:-0500
TZOFFSETTO:-0400
DTSTART:20230312T070000
END:DAYLIGHT
BEGIN:STANDARD
TZNAME:EST
TZOFFSETFROM:-0400
TZOFFSETTO:-0500
DTSTART:20221106T060000
END:STANDARD
END:VTIMEZONE
BEGIN:VEVENT
UID:69eb3ab8b32c9
DTSTART;TZID=America/Toronto:20231018T090000
SEQUENCE:0
TRANSP:TRANSPARENT
DTEND;TZID=America/Toronto:20231018T163000
URL:https://uwaterloo.ca/earth-environmental-sciences/events/celebration-li
 fe-and-career-emil-frind
LOCATION:FED - Federation Hall 200 University Avenue West Main Hall Waterlo
 o ON N2L 3G1 Canada
SUMMARY:A Celebration of the Life and Career of Emil Frind
CLASS:PUBLIC
DESCRIPTION:Please join us for a celebration of the life and career of Prof
 essor\nEmil Frind.\n\nCoffee and lunch will be provided. Cash bar receptio
 n at Federation\nHall after the event.\n\nTo attend\, please respond to t
 he “save the date” email\nfrom klalbrec@uwaterloo.ca.
DTSTAMP:20260424T094112Z
END:VEVENT
END:VCALENDAR