BEGIN:VCALENDAR
VERSION:2.0
PRODID:-//Drupal iCal API//EN
X-WR-CALNAME:Events items teaser
X-WR-TIMEZONE:America/Toronto
BEGIN:VTIMEZONE
TZID:America/Toronto
X-LIC-LOCATION:America/Toronto
BEGIN:DAYLIGHT
TZNAME:EDT
TZOFFSETFROM:-0500
TZOFFSETTO:-0400
DTSTART:20250309T070000
END:DAYLIGHT
BEGIN:STANDARD
TZNAME:EST
TZOFFSETFROM:-0400
TZOFFSETTO:-0500
DTSTART:20241103T060000
END:STANDARD
END:VTIMEZONE
BEGIN:VEVENT
UID:69eaf2cfd63ff
DTSTART;TZID=America/Toronto:20250321T140000
SEQUENCE:0
TRANSP:TRANSPARENT
DTEND;TZID=America/Toronto:20250321T144500
URL:https://uwaterloo.ca/earth-environmental-sciences/events/king-charles-i
 ii-coronation-medal-virtual-ceremony-philippe
SUMMARY:King Charles III Coronation Medal - Virtual Ceremony for Philippe V
 an\nCappellen
CLASS:PUBLIC
DESCRIPTION:Philippe van Cappellan was recently awarded a King Charles III\
 nCoronation Medal. Universities Canada cordially invites you and any\nothe
 r interested colleagues to a virtual celebration of this special\nrecognit
 ion.
DTSTAMP:20260424T043423Z
END:VEVENT
END:VCALENDAR