BEGIN:VCALENDAR
VERSION:2.0
PRODID:-//Drupal iCal API//EN
X-WR-CALNAME:Events items teaser
X-WR-TIMEZONE:America/Toronto
BEGIN:VTIMEZONE
TZID:America/Toronto
X-LIC-LOCATION:America/Toronto
BEGIN:DAYLIGHT
TZNAME:EDT
TZOFFSETFROM:-0500
TZOFFSETTO:-0400
DTSTART:20120311T070000
END:DAYLIGHT
BEGIN:STANDARD
TZNAME:EST
TZOFFSETFROM:-0400
TZOFFSETTO:-0500
DTSTART:20121104T060000
END:STANDARD
END:VTIMEZONE
BEGIN:VEVENT
UID:69e8848347667
DTSTART;TZID=America/Toronto:20130201T133000
SEQUENCE:0
TRANSP:TRANSPARENT
DTEND;TZID=America/Toronto:20130201T163000
URL:https://uwaterloo.ca/ecohydrology/events/2013-world-wetlands-day-semina
 r-and-poster-session
LOCATION:DC - William G. Davis Computer Research Centre 200 University Aven
 ue West 1302 Waterloo ON N2L 3G1 Canada
SUMMARY:2013 World Wetlands Day Seminar and Poster Session
CLASS:PUBLIC
DESCRIPTION:A CELEBRATION OF WORLD WETLANDS DAY: SEMINAR AND POSTER SESSION
 \n\n [Image of World wetlands day poster] We would like to invite you to\n
 join the Ecohydrology Group in celebrating RAMSAR’s World Wetlands\nDay 
 2013: Wetlands and Water Management\n[http://www.ramsar.org/cda/en/ramsar-
 home/main/ramsar/1_4000_0__] on\nFebruary 1st at 1:30pm in DC 1302. Dr\n[
 http://unu.edu/faculty/corinne-schuster-wallace.html#profile]
DTSTAMP:20260422T081915Z
END:VEVENT
END:VCALENDAR