BEGIN:VCALENDAR
VERSION:2.0
PRODID:-//Drupal iCal API//EN
X-WR-CALNAME:Events items teaser
X-WR-TIMEZONE:America/Toronto
BEGIN:VTIMEZONE
TZID:America/Toronto
X-LIC-LOCATION:America/Toronto
BEGIN:DAYLIGHT
TZNAME:EDT
TZOFFSETFROM:-0500
TZOFFSETTO:-0400
DTSTART:20130310T070000
END:DAYLIGHT
BEGIN:STANDARD
TZNAME:EST
TZOFFSETFROM:-0400
TZOFFSETTO:-0500
DTSTART:20131103T060000
END:STANDARD
END:VTIMEZONE
BEGIN:VEVENT
UID:69ea2a4b451c6
DTSTART;TZID=America/Toronto:20131205T140000
SEQUENCE:0
TRANSP:TRANSPARENT
DTEND;TZID=America/Toronto:20131205T140000
URL:https://uwaterloo.ca/ecohydrology/events/seminar-al-abadleh
LOCATION:DC - William G. Davis Computer Research Centre 200 University Aven
 ue West 1304 Waterloo
SUMMARY:Ecohydrology Seminar Series: Dr. Hind Al-Abadleh
CLASS:PUBLIC
DESCRIPTION:SURFACE CHEMISTRY OF ENVIRONMENTALLY-IMPORTANT ORGANOARSENIC CO
 MPOUNDS\nWITH IRON (OXYHYDR)OXIDES STUDIED BY ATR-FTIR\, DFT CALCULATIONS\
 , AND\nSURFACE COMPLEXATION MODELING\n\nBy Dr. Hind Al-Abadleh\n[http://ww
 w.wlu.ca/homepage.php?grp_id=1401&amp;f_id=1]\, Associate\nProfessor\, Chemi
 stry\, Wilfrid Laurier University 
DTSTAMP:20260423T141851Z
END:VEVENT
END:VCALENDAR