BEGIN:VCALENDAR
VERSION:2.0
PRODID:-//Drupal iCal API//EN
X-WR-CALNAME:Events items teaser
X-WR-TIMEZONE:America/Toronto
BEGIN:VTIMEZONE
TZID:America/Toronto
X-LIC-LOCATION:America/Toronto
BEGIN:DAYLIGHT
TZNAME:EDT
TZOFFSETFROM:-0500
TZOFFSETTO:-0400
DTSTART:20160313T070000
END:DAYLIGHT
BEGIN:STANDARD
TZNAME:EST
TZOFFSETFROM:-0400
TZOFFSETTO:-0500
DTSTART:20161106T060000
END:STANDARD
END:VTIMEZONE
BEGIN:VEVENT
UID:69e7ceb5e371e
DTSTART;TZID=America/Toronto:20161122T140000
SEQUENCE:0
TRANSP:TRANSPARENT
DTEND;TZID=America/Toronto:20161122T140000
URL:https://uwaterloo.ca/ecohydrology/events/ecohydrology-seminar-series-dr
 -wanhong-yang
LOCATION:EIT - Centre for Environmental and Information Technology 200 Univ
 ersity Avenue West 3142 Waterloo ON N2L 3G1 Canada
SUMMARY:Ecohydrology Seminar Series: Dr. Wanhong Yang
CLASS:PUBLIC
DESCRIPTION:_AN INTEGRATED ECONOMIC AND HYDROLOGIC MODELLING SYSTEM FOR EVA
 LUATING\nCOST EFFECTIVENESS OF AGRICULTURAL CONSERVATION PROGRAMS_\n\n [Wa
 nhong Yang] Presented by Dr. Wanhong Yang\n[http://www.uoguelph.ca/geograp
 hy/WEG]\n\nProfessor\, Department of Geography\n\nUniversity of Guelph
DTSTAMP:20260421T192333Z
END:VEVENT
END:VCALENDAR