BEGIN:VCALENDAR
VERSION:2.0
PRODID:-//Drupal iCal API//EN
X-WR-CALNAME:Events items teaser
X-WR-TIMEZONE:America/Toronto
BEGIN:VTIMEZONE
TZID:America/Toronto
X-LIC-LOCATION:America/Toronto
BEGIN:DAYLIGHT
TZNAME:EDT
TZOFFSETFROM:-0500
TZOFFSETTO:-0400
DTSTART:20170312T070000
END:DAYLIGHT
BEGIN:STANDARD
TZNAME:EST
TZOFFSETFROM:-0400
TZOFFSETTO:-0500
DTSTART:20171105T060000
END:STANDARD
END:VTIMEZONE
BEGIN:VEVENT
UID:69e44217c6730
DTSTART;TZID=America/Toronto:20171206T100000
SEQUENCE:0
TRANSP:TRANSPARENT
DTEND;TZID=America/Toronto:20171206T100000
URL:https://uwaterloo.ca/ecohydrology/events/msc-thesis-defence-christine-r
 idenour
LOCATION:STC - Science Teaching Complex 200 University Ave West 2002 Waterl
 oo ON N2L 3G1 Canada
SUMMARY:MSc Thesis Defence: Christine RIDENOUR
CLASS:PUBLIC
DESCRIPTION:BIOGEOCHEMICAL CYCLING OF NUTRIENT SILICON IN A HUMAN-IMPACTE
 D LARGE\nLAKE NEARSHORE ENVIRONMENT (HAMILTON HARBOUR AREA OF CONCERN\, L
 AKE\nONTARIO\, CANADA)
DTSTAMP:20260419T024647Z
END:VEVENT
END:VCALENDAR