BEGIN:VCALENDAR
VERSION:2.0
PRODID:-//Drupal iCal API//EN
X-WR-CALNAME:Events items teaser
X-WR-TIMEZONE:America/Toronto
BEGIN:VTIMEZONE
TZID:America/Toronto
X-LIC-LOCATION:America/Toronto
BEGIN:DAYLIGHT
TZNAME:EDT
TZOFFSETFROM:-0500
TZOFFSETTO:-0400
DTSTART:20180311T070000
END:DAYLIGHT
BEGIN:STANDARD
TZNAME:EST
TZOFFSETFROM:-0400
TZOFFSETTO:-0500
DTSTART:20181104T060000
END:STANDARD
END:VTIMEZONE
BEGIN:VEVENT
UID:69e4c97d9a19e
DTSTART;TZID=America/Toronto:20190204T130000
SEQUENCE:0
TRANSP:TRANSPARENT
DTEND;TZID=America/Toronto:20190204T200000
URL:https://uwaterloo.ca/ecohydrology/wwd2019
LOCATION:EC5 - East Campus 5 305 Phillip St. 1111 Waterloo ON N2L 5Z5 Canad
 a
SUMMARY:World Wetlands Day 2019
CLASS:PUBLIC
DESCRIPTION:[World Wetlands Day 2019 Poster]\n\nOn Monday\, February 4th\, 
 the Ecohydrology Research Group hosted the\n7th annual World Wetlands Day
  Research Symposium at the University\nof Waterloo.
DTSTAMP:20260419T122429Z
END:VEVENT
END:VCALENDAR