BEGIN:VCALENDAR
VERSION:2.0
PRODID:-//Drupal iCal API//EN
X-WR-CALNAME:Events items teaser
X-WR-TIMEZONE:America/Toronto
BEGIN:VTIMEZONE
TZID:America/Toronto
X-LIC-LOCATION:America/Toronto
BEGIN:DAYLIGHT
TZNAME:EDT
TZOFFSETFROM:-0500
TZOFFSETTO:-0400
DTSTART:20190310T070000
END:DAYLIGHT
BEGIN:STANDARD
TZNAME:EST
TZOFFSETFROM:-0400
TZOFFSETTO:-0500
DTSTART:20181104T060000
END:STANDARD
END:VTIMEZONE
BEGIN:VEVENT
UID:69e7993d873d2
DTSTART;TZID=America/Toronto:20190401T140000
SEQUENCE:0
TRANSP:TRANSPARENT
DTEND;TZID=America/Toronto:20190401T140000
URL:https://uwaterloo.ca/ecohydrology/events/earth-science-department-semin
 ar-9
LOCATION:PHY - Physics 200 University Avenue West 145 Waterloo ON N2L 3G1 C
 anada
SUMMARY:Earth Science Department Seminar
CLASS:PUBLIC
DESCRIPTION:LIFE IN THE CRITICAL ZONE: MICROBIAL INTERACTIONS AND BIOGEOCHE
 MICAL\nCYCLING ON THE EDGE\n\nPRESENTER\nDr. Allyson Brady\nSchool of Geog
 raphy and Earth Sciences\nMcMaster University
DTSTAMP:20260421T153525Z
END:VEVENT
END:VCALENDAR