BEGIN:VCALENDAR
VERSION:2.0
PRODID:-//Drupal iCal API//EN
X-WR-CALNAME:Events items teaser
X-WR-TIMEZONE:America/Toronto
BEGIN:VTIMEZONE
TZID:America/Toronto
X-LIC-LOCATION:America/Toronto
BEGIN:DAYLIGHT
TZNAME:EDT
TZOFFSETFROM:-0500
TZOFFSETTO:-0400
DTSTART:20190310T070000
END:DAYLIGHT
BEGIN:STANDARD
TZNAME:EST
TZOFFSETFROM:-0400
TZOFFSETTO:-0500
DTSTART:20181104T060000
END:STANDARD
END:VTIMEZONE
BEGIN:VEVENT
UID:69e7994381cb6
DTSTART;TZID=America/Toronto:20190404T140000
SEQUENCE:0
TRANSP:TRANSPARENT
DTEND;TZID=America/Toronto:20190404T140000
URL:https://uwaterloo.ca/ecohydrology/events/earth-science-department-semin
 ar-10
LOCATION:DC - William G. Davis Computer Research Centre 200 University Aven
 ue West 1302 Waterloo ON N2L 3G1 Canada
SUMMARY:Earth Science Department Seminar
CLASS:PUBLIC
DESCRIPTION:BEYOND THE PERMAFROST CARBON BOMB: INSIGHTS AND FUTURE DIRECTIO
 NS FOR\nARCTIC AND BOREAL WETLAND RESEARCH\n\nPRESENTER\nDr. Claire Treat\
 nDept. of Environmental and Biological Sciences\nUniversity of Eastern Fin
 land\nKuopio\, Finland
DTSTAMP:20260421T153531Z
END:VEVENT
END:VCALENDAR