BEGIN:VCALENDAR
VERSION:2.0
PRODID:-//Drupal iCal API//EN
X-WR-CALNAME:Events items teaser
X-WR-TIMEZONE:America/Toronto
BEGIN:VTIMEZONE
TZID:America/Toronto
X-LIC-LOCATION:America/Toronto
BEGIN:DAYLIGHT
TZNAME:EDT
TZOFFSETFROM:-0500
TZOFFSETTO:-0400
DTSTART:20190310T070000
END:DAYLIGHT
BEGIN:STANDARD
TZNAME:EST
TZOFFSETFROM:-0400
TZOFFSETTO:-0500
DTSTART:20181104T060000
END:STANDARD
END:VTIMEZONE
BEGIN:VEVENT
UID:69e799440594b
DTSTART;TZID=America/Toronto:20190422T140000
SEQUENCE:0
TRANSP:TRANSPARENT
DTEND;TZID=America/Toronto:20190422T140000
URL:https://uwaterloo.ca/ecohydrology/events/earth-science-department-semin
 ar-11
LOCATION:EIT - Centre for Environmental and Information Technology 3142 Can
 ada
SUMMARY:Earth Science Department Seminar
CLASS:PUBLIC
DESCRIPTION:WATER RESOURCES IN CHANGING LANDSCAPES: A VIEW FROM AN OVERDEVE
 LOPED\nAQUIFER\n\nPRESENTER\n\nDr. Randy Stotler\nDepartement of Earth Sci
 ences\nUniversity of Kansas
DTSTAMP:20260421T153532Z
END:VEVENT
END:VCALENDAR