BEGIN:VCALENDAR
VERSION:2.0
PRODID:-//Drupal iCal API//EN
X-WR-CALNAME:Events items teaser
X-WR-TIMEZONE:America/Toronto
BEGIN:VTIMEZONE
TZID:America/Toronto
X-LIC-LOCATION:America/Toronto
BEGIN:DAYLIGHT
TZNAME:EDT
TZOFFSETFROM:-0500
TZOFFSETTO:-0400
DTSTART:20190310T070000
END:DAYLIGHT
BEGIN:STANDARD
TZNAME:EST
TZOFFSETFROM:-0400
TZOFFSETTO:-0500
DTSTART:20181104T060000
END:STANDARD
END:VTIMEZONE
BEGIN:VEVENT
UID:69e7993f7ef78
DTSTART;TZID=America/Toronto:20190502T143000
SEQUENCE:0
TRANSP:TRANSPARENT
DTEND;TZID=America/Toronto:20190502T143000
URL:https://uwaterloo.ca/ecohydrology/events/water-institute-seminar
LOCATION:QNC - Quantum Nano Centre 200 University Avenue West 1501 Waterloo
  ON N2L 3G1 Canada
SUMMARY:Water Institute Seminar
CLASS:PUBLIC
DESCRIPTION:ECOSYSTEM RECOVERY FROM ACID RAIN: BIOGEOCHEMICAL CONSEQUENCES 
 IN THE\nSOIL-STREAM CONTINUUM\n\nPRESENTER \nDr. Richard Marinos\nPostdoc
 toral Fellow\nUniversity of Waterloo
DTSTAMP:20260421T153527Z
END:VEVENT
END:VCALENDAR