BEGIN:VCALENDAR
VERSION:2.0
PRODID:-//Drupal iCal API//EN
X-WR-CALNAME:Events items teaser
X-WR-TIMEZONE:America/Toronto
BEGIN:VTIMEZONE
TZID:America/Toronto
X-LIC-LOCATION:America/Toronto
BEGIN:DAYLIGHT
TZNAME:EDT
TZOFFSETFROM:-0500
TZOFFSETTO:-0400
DTSTART:20190310T070000
END:DAYLIGHT
BEGIN:STANDARD
TZNAME:EST
TZOFFSETFROM:-0400
TZOFFSETTO:-0500
DTSTART:20181104T060000
END:STANDARD
END:VTIMEZONE
BEGIN:VEVENT
UID:69e7852c825dd
DTSTART;TZID=America/Toronto:20190719T103000
SEQUENCE:0
TRANSP:TRANSPARENT
DTEND;TZID=America/Toronto:20190719T103000
URL:https://uwaterloo.ca/ecohydrology/events/watertalk-importance-and-effec
 ts-physical-processes-lake
LOCATION:Davis Centre 1304 Canada
SUMMARY:WaterTalk: Importance and Effects of Physical Processes in Lake\nEc
 osystems
CLASS:PUBLIC
DESCRIPTION:Assistant Professor in the Environmental Physics Group and Acad
 emic\nCouncilor at the Limnological Institute of the University of Konstan
 z\,\nDr. Hilmar Hofmann\, will present on the \"Importance and Effects of
 \nPhysical Processes in Lake Ecosystems\" as part of the Water\nInstitute'
 s WaterTalks lecture series\n[https://uwaterloo.ca/water-institute/watert
 alks].
DTSTAMP:20260421T140948Z
END:VEVENT
END:VCALENDAR