BEGIN:VCALENDAR
VERSION:2.0
PRODID:-//Drupal iCal API//EN
X-WR-CALNAME:Events items teaser
X-WR-TIMEZONE:America/Toronto
BEGIN:VTIMEZONE
TZID:America/Toronto
X-LIC-LOCATION:America/Toronto
BEGIN:DAYLIGHT
TZNAME:EDT
TZOFFSETFROM:-0500
TZOFFSETTO:-0400
DTSTART:20190310T070000
END:DAYLIGHT
BEGIN:STANDARD
TZNAME:EST
TZOFFSETFROM:-0400
TZOFFSETTO:-0500
DTSTART:20181104T060000
END:STANDARD
END:VTIMEZONE
BEGIN:VEVENT
UID:69e7ceb1e48ae
DTSTART;VALUE=DATE:20191026
SEQUENCE:0
TRANSP:TRANSPARENT
DTEND;VALUE=DATE:20191027
URL:https://uwaterloo.ca/ecohydrology/events/science-open-house-0
LOCATION:STC - Science Teaching Complex 200 University Ave West Waterloo ON
  N2L 3G1 Canada
SUMMARY:Science Open House
CLASS:PUBLIC
DESCRIPTION:The annual Sceince Open House will be held on Saturday\, Octobe
 r 26th\nfrom 10AM TO 4PM in the Science Teaching Complex (STC) and EIT
 .\nThis free event is open to the pblic and offer activities for kids to\
 nleanr more about science at the Unviersity of Waterloo.
X-MICROSOFT-CDO-ALLDAYEVENT:TRUE
DTSTAMP:20260421T192329Z
END:VEVENT
END:VCALENDAR