BEGIN:VCALENDAR
VERSION:2.0
PRODID:-//Drupal iCal API//EN
X-WR-CALNAME:Events items teaser
X-WR-TIMEZONE:America/Toronto
BEGIN:VTIMEZONE
TZID:America/Toronto
X-LIC-LOCATION:America/Toronto
BEGIN:DAYLIGHT
TZNAME:EDT
TZOFFSETFROM:-0500
TZOFFSETTO:-0400
DTSTART:20190310T070000
END:DAYLIGHT
BEGIN:STANDARD
TZNAME:EST
TZOFFSETFROM:-0400
TZOFFSETTO:-0500
DTSTART:20191103T060000
END:STANDARD
END:VTIMEZONE
BEGIN:VEVENT
UID:69e58e1c0691e
DTSTART;TZID=America/Toronto:20191206T083000
SEQUENCE:0
TRANSP:TRANSPARENT
DTEND;TZID=America/Toronto:20191206T163000
URL:https://uwaterloo.ca/ecohydrology/symposium
LOCATION:DC - William G. Davis Computer Research Centre 200 University Aven
 ue West Waterloo ON N2L 3G1 Canada
SUMMARY:Ecohydrology Research Symposium
CLASS:PUBLIC
DESCRIPTION:Join us for the Ecohydrology Research Symposium on December 6th
  to\ncelebrate the years of impactful research conducted by Philippe Van\n
 Cappellen and his students and colleagues\, past and present. Research\nby
  Philippe and his colleagues has made innumerable contributions to\nvariou
 s scientific fields spanning his career from his graduate\nstudies at Yale
  to founding the Ecohydrology Research Group here at\nthe University of Wa
 terloo in 2011 and continuing today. We have\nplanned a full day of exciti
 ng research talks to celebrate these\ncontributions.
DTSTAMP:20260420T022324Z
END:VEVENT
END:VCALENDAR