BEGIN:VCALENDAR
VERSION:2.0
PRODID:-//Drupal iCal API//EN
X-WR-CALNAME:Events items teaser
X-WR-TIMEZONE:America/Toronto
BEGIN:VTIMEZONE
TZID:America/Toronto
X-LIC-LOCATION:America/Toronto
BEGIN:DAYLIGHT
TZNAME:EDT
TZOFFSETFROM:-0500
TZOFFSETTO:-0400
DTSTART:20230312T070000
END:DAYLIGHT
BEGIN:STANDARD
TZNAME:EST
TZOFFSETFROM:-0400
TZOFFSETTO:-0500
DTSTART:20231105T060000
END:STANDARD
END:VTIMEZONE
BEGIN:VEVENT
UID:69e858797e944
DTSTART;TZID=America/Toronto:20231128T110000
SEQUENCE:0
TRANSP:TRANSPARENT
DTEND;TZID=America/Toronto:20231128T120000
URL:https://uwaterloo.ca/ecohydrology/events/ecohydrology-seminar-series-dr
 -kevin-stevens
LOCATION:DC - William G. Davis Computer Research Centre 200 University Aven
 ue West Room 1302 Waterloo ON N2L 3G1 Canada
SUMMARY:Ecohydrology Seminar Series: Dr. Kevin Stevens
CLASS:PUBLIC
DESCRIPTION:WETLAND PLANTS IN URBAN ENVIRONMENTS\n\nPresented by Dr. Kevin 
 Stevens\n\nDepartment of Biology\, Wilfrid Laurier University
DTSTAMP:20260422T051121Z
END:VEVENT
END:VCALENDAR