BEGIN:VCALENDAR
VERSION:2.0
PRODID:-//Drupal iCal API//EN
X-WR-CALNAME:Events items teaser
X-WR-TIMEZONE:America/Toronto
BEGIN:VTIMEZONE
TZID:America/Toronto
X-LIC-LOCATION:America/Toronto
BEGIN:DAYLIGHT
TZNAME:EDT
TZOFFSETFROM:-0500
TZOFFSETTO:-0400
DTSTART:20130310T070000
END:DAYLIGHT
BEGIN:STANDARD
TZNAME:EST
TZOFFSETFROM:-0400
TZOFFSETTO:-0500
DTSTART:20131103T060000
END:STANDARD
END:VTIMEZONE
BEGIN:VEVENT
UID:69e9535bab558
DTSTART;TZID=America/Toronto:20140123T100000
SEQUENCE:0
TRANSP:TRANSPARENT
DTEND;TZID=America/Toronto:20140123T100000
URL:https://uwaterloo.ca/electrical-computer-engineering/events/phd-compreh
 ensive-exam-ran-zhang
SUMMARY:PhD comprehensive exam - Ran Zhang
CLASS:PUBLIC
DESCRIPTION:CANDIDATE\n\nRan Zhang\n\nTOPIC\n\nRadio Resource Management in
  LTE-Advanced Systems with Carrier\nAggregation\n\nSUPERVISORS\n\nShen\, S
 herman X. [/electrical-computer-engineering/node/494] and Xie\,\nLiang-Lia
 ng [/electrical-computer-engineering/node/509]
DTSTAMP:20260422T230147Z
END:VEVENT
END:VCALENDAR