BEGIN:VCALENDAR
VERSION:2.0
PRODID:-//Drupal iCal API//EN
X-WR-CALNAME:Events items teaser
X-WR-TIMEZONE:America/Toronto
BEGIN:VTIMEZONE
TZID:America/Toronto
X-LIC-LOCATION:America/Toronto
BEGIN:DAYLIGHT
TZNAME:EDT
TZOFFSETFROM:-0500
TZOFFSETTO:-0400
DTSTART:20140309T070000
END:DAYLIGHT
BEGIN:STANDARD
TZNAME:EST
TZOFFSETFROM:-0400
TZOFFSETTO:-0500
DTSTART:20131103T060000
END:STANDARD
END:VTIMEZONE
BEGIN:VEVENT
UID:69e5fcd9b8edb
DTSTART;TZID=America/Toronto:20140313T150000
SEQUENCE:0
TRANSP:TRANSPARENT
DTEND;TZID=America/Toronto:20140313T150000
URL:https://uwaterloo.ca/electrical-computer-engineering/events/seminar-pro
 fessor-vishal-monga
SUMMARY:Seminar - Professor Vishal Monga
CLASS:PUBLIC
DESCRIPTION:SPEAKER\n\nProfessor Vishal Monga\nAssistant Professor\nElectri
 cal Engineering\nPennsylvania State University\n\nTITLE\n\nDiscriminative 
 Sparsity For Image Classification
DTSTAMP:20260420T101553Z
END:VEVENT
END:VCALENDAR