BEGIN:VCALENDAR
VERSION:2.0
PRODID:-//Drupal iCal API//EN
X-WR-CALNAME:Events items teaser
X-WR-TIMEZONE:America/Toronto
BEGIN:VTIMEZONE
TZID:America/Toronto
X-LIC-LOCATION:America/Toronto
BEGIN:DAYLIGHT
TZNAME:EDT
TZOFFSETFROM:-0500
TZOFFSETTO:-0400
DTSTART:20140309T070000
END:DAYLIGHT
BEGIN:STANDARD
TZNAME:EST
TZOFFSETFROM:-0400
TZOFFSETTO:-0500
DTSTART:20131103T060000
END:STANDARD
END:VTIMEZONE
BEGIN:VEVENT
UID:69ecd0f0bb6bc
DTSTART;TZID=America/Toronto:20140417T150000
SEQUENCE:0
TRANSP:TRANSPARENT
DTEND;TZID=America/Toronto:20140417T150000
URL:https://uwaterloo.ca/electrical-computer-engineering/events/distinguish
 ed-lecture-series-professor-r-srikant
LOCATION:EIT building 200 University Avenue West Room 1015 Waterloo ON N2L 
 3G1 Canada
SUMMARY:Distinguished Lecture Series - Professor R. Srikant
CLASS:PUBLIC
DESCRIPTION:SPEAKER\n\nProfessor R. Srikant [http://www.ifp.illinois.edu/~s
 rikant/]\,\nUniversity of Illinois at Urbana-Champaign (UIUC)\n\nTITLE\n\n
 Resource Allocation and Networking in Clouds and Data Centers
DTSTAMP:20260425T143424Z
END:VEVENT
END:VCALENDAR