BEGIN:VCALENDAR
VERSION:2.0
PRODID:-//Drupal iCal API//EN
X-WR-CALNAME:Events items teaser
X-WR-TIMEZONE:America/Toronto
BEGIN:VTIMEZONE
TZID:America/Toronto
X-LIC-LOCATION:America/Toronto
BEGIN:DAYLIGHT
TZNAME:EDT
TZOFFSETFROM:-0500
TZOFFSETTO:-0400
DTSTART:20140309T070000
END:DAYLIGHT
BEGIN:STANDARD
TZNAME:EST
TZOFFSETFROM:-0400
TZOFFSETTO:-0500
DTSTART:20131103T060000
END:STANDARD
END:VTIMEZONE
BEGIN:VEVENT
UID:69e89342b2022
DTSTART;TZID=America/Toronto:20140506T140000
SEQUENCE:0
TRANSP:TRANSPARENT
DTEND;TZID=America/Toronto:20140506T140000
URL:https://uwaterloo.ca/electrical-computer-engineering/events/phd-compreh
 ensive-exam-wael-taha-ghareeb-elsayed
SUMMARY:PhD comprehensive exam - Wael Taha Ghareeb Elsayed
CLASS:PUBLIC
DESCRIPTION:CANDIDATE\n\nWael Taha Ghareeb Elsayed\n\nTOPIC\n\nA New Fully 
 Decentralized Approach for Solving the Non-Convex Economic\nDispatch Probl
 em\n\nSUPERVISOR\n\nEhab El-Saadany [/electrical-computer-engineering/node
 /443]
DTSTAMP:20260422T092210Z
END:VEVENT
END:VCALENDAR