BEGIN:VCALENDAR
VERSION:2.0
PRODID:-//Drupal iCal API//EN
X-WR-CALNAME:Events items teaser
X-WR-TIMEZONE:America/Toronto
BEGIN:VTIMEZONE
TZID:America/Toronto
X-LIC-LOCATION:America/Toronto
BEGIN:DAYLIGHT
TZNAME:EDT
TZOFFSETFROM:-0500
TZOFFSETTO:-0400
DTSTART:20140309T070000
END:DAYLIGHT
BEGIN:STANDARD
TZNAME:EST
TZOFFSETFROM:-0400
TZOFFSETTO:-0500
DTSTART:20131103T060000
END:STANDARD
END:VTIMEZONE
BEGIN:VEVENT
UID:69e7dd4b4752c
DTSTART;TZID=America/Toronto:20141028T143000
SEQUENCE:0
TRANSP:TRANSPARENT
DTEND;TZID=America/Toronto:20141028T163000
URL:https://uwaterloo.ca/electrical-computer-engineering/events/student-mot
 ivation-learning
SUMMARY:Student Motivation for Learning
CLASS:PUBLIC
DESCRIPTION:What motivates student learning? Can instructors influence the\
 nmotivation levels of their students?\n\n[Students in class]\n\nSome theor
 ists believe that motivation for learning is impacted by two\nfactors:\n\n
 1. Student beliefs about their ability to succeed in the learning task\n(e
 xpectancy)\n\n2. The perceived importance of the learning (value).
DTSTAMP:20260421T202547Z
END:VEVENT
END:VCALENDAR