BEGIN:VCALENDAR
VERSION:2.0
PRODID:-//Drupal iCal API//EN
X-WR-CALNAME:Events items teaser
X-WR-TIMEZONE:America/Toronto
BEGIN:VTIMEZONE
TZID:America/Toronto
X-LIC-LOCATION:America/Toronto
BEGIN:DAYLIGHT
TZNAME:EDT
TZOFFSETFROM:-0500
TZOFFSETTO:-0400
DTSTART:20150308T070000
END:DAYLIGHT
BEGIN:STANDARD
TZNAME:EST
TZOFFSETFROM:-0400
TZOFFSETTO:-0500
DTSTART:20141102T060000
END:STANDARD
END:VTIMEZONE
BEGIN:VEVENT
UID:69ed44a214e2b
DTSTART;TZID=America/Toronto:20150529T150000
SEQUENCE:0
TRANSP:TRANSPARENT
DTEND;TZID=America/Toronto:20150529T150000
URL:https://uwaterloo.ca/electrical-computer-engineering/events/distinguish
 ed-lecture-series-professor-yeo-kiat-seng
LOCATION:DC building 200 University Avenue West Room 1302 Waterloo ON N2L 3
 G1 Canada
SUMMARY:Distinguished Lecture Series - Professor Yeo Kiat Seng
CLASS:PUBLIC
DESCRIPTION:SPEAKER\n\nProfessor Yeo Kiat Seng\, Associate Provost STUD\, S
 ingapore\n\nTITLE\n\nThe Next Big Things in Education and Research\n\nABST
 RACT\n\nThe new challenges posed by an increasingly integrated world requi
 re a\nrethinking of how we address our current education system and future
 \nresearch directions. This talk begins with an introduction of\nSingapore
  University of Technology and Design\, which was established\nin collabora
 tion with Massachusetts Institute of Technology (MIT).
DTSTAMP:20260425T224802Z
END:VEVENT
END:VCALENDAR