BEGIN:VCALENDAR
VERSION:2.0
PRODID:-//Drupal iCal API//EN
X-WR-CALNAME:Events items teaser
X-WR-TIMEZONE:America/Toronto
BEGIN:VTIMEZONE
TZID:America/Toronto
X-LIC-LOCATION:America/Toronto
BEGIN:DAYLIGHT
TZNAME:EDT
TZOFFSETFROM:-0500
TZOFFSETTO:-0400
DTSTART:20150308T070000
END:DAYLIGHT
BEGIN:STANDARD
TZNAME:EST
TZOFFSETFROM:-0400
TZOFFSETTO:-0500
DTSTART:20141102T060000
END:STANDARD
END:VTIMEZONE
BEGIN:VEVENT
UID:69e80340db041
DTSTART;TZID=America/Toronto:20150702T103000
SEQUENCE:0
TRANSP:TRANSPARENT
DTEND;TZID=America/Toronto:20150702T103000
URL:https://uwaterloo.ca/electrical-computer-engineering/events/masc-semina
 r-mantosh-devgan
SUMMARY:MASc seminar - Mantosh Devgan
CLASS:PUBLIC
DESCRIPTION:CANDIDATE\n\nMantosh Devgan\n\nTITLE\n\nInvestigation of high f
 requency switching transients on wind turbine\nstep up transformers\n\nSUP
 ERVISOR\n\nSheshakamal Jayaram
DTSTAMP:20260421T230744Z
END:VEVENT
END:VCALENDAR