BEGIN:VCALENDAR
VERSION:2.0
PRODID:-//Drupal iCal API//EN
X-WR-CALNAME:Events items teaser
X-WR-TIMEZONE:America/Toronto
BEGIN:VTIMEZONE
TZID:America/Toronto
X-LIC-LOCATION:America/Toronto
BEGIN:DAYLIGHT
TZNAME:EDT
TZOFFSETFROM:-0500
TZOFFSETTO:-0400
DTSTART:20170312T070000
END:DAYLIGHT
BEGIN:STANDARD
TZNAME:EST
TZOFFSETFROM:-0400
TZOFFSETTO:-0500
DTSTART:20161106T060000
END:STANDARD
END:VTIMEZONE
BEGIN:VEVENT
UID:69e8c39bf38fd
DTSTART;TZID=America/Toronto:20170322T103000
SEQUENCE:0
TRANSP:TRANSPARENT
DTEND;TZID=America/Toronto:20170322T103000
URL:https://uwaterloo.ca/electrical-computer-engineering/events/seminar-pro
 fessor-josh-taylor
LOCATION:EIT - Centre for Environmental and Information Technology 200 Univ
 ersity Avenue West Room 3142 Waterloo ON N2L 3G1 Canada
SUMMARY:Seminar - Professor Josh A. Taylor
CLASS:PUBLIC
DESCRIPTION:SPEAKER\n\nJosh A. Taylor\, Department of Electrical and Comput
 er Engineering\,\nUniversity of Toronto\n\nTOPIC\n\nLeveraging energy stor
 age and demand response in power system\noperations
DTSTAMP:20260422T124828Z
END:VEVENT
END:VCALENDAR