BEGIN:VCALENDAR
VERSION:2.0
PRODID:-//Drupal iCal API//EN
X-WR-CALNAME:Events items teaser
X-WR-TIMEZONE:America/Toronto
BEGIN:VTIMEZONE
TZID:America/Toronto
X-LIC-LOCATION:America/Toronto
BEGIN:DAYLIGHT
TZNAME:EDT
TZOFFSETFROM:-0500
TZOFFSETTO:-0400
DTSTART:20170312T070000
END:DAYLIGHT
BEGIN:STANDARD
TZNAME:EST
TZOFFSETFROM:-0400
TZOFFSETTO:-0500
DTSTART:20161106T060000
END:STANDARD
END:VTIMEZONE
BEGIN:VEVENT
UID:69ed44a1794d9
DTSTART;TZID=America/Toronto:20170922T133000
SEQUENCE:0
TRANSP:TRANSPARENT
DTEND;TZID=America/Toronto:20170922T143000
URL:https://uwaterloo.ca/electrical-computer-engineering/events/ieee-lectur
 e-cognitive-radio-wireless-communications
LOCATION:Davis Centre 200 University Avenue West Room 1302 Waterloo ON N2L 
 3G1 Canada
SUMMARY:IEEE Lecture: Cognitive Radio for Wireless Communications: Concepts
 \nand Applications
CLASS:PUBLIC
DESCRIPTION:[IEEE Canada logo]\n\nIEEE KW SECTION VEHICULAR TECHNOLOGY CHAP
 TER DISTINGUISHED LECTURE\nCognitive Radio for Wireless Communications: Co
 ncepts and Applications
DTSTAMP:20260425T224801Z
END:VEVENT
END:VCALENDAR