BEGIN:VCALENDAR
VERSION:2.0
PRODID:-//Drupal iCal API//EN
X-WR-CALNAME:Events items teaser
X-WR-TIMEZONE:America/Toronto
BEGIN:VTIMEZONE
TZID:America/Toronto
X-LIC-LOCATION:America/Toronto
BEGIN:DAYLIGHT
TZNAME:EDT
TZOFFSETFROM:-0500
TZOFFSETTO:-0400
DTSTART:20170312T070000
END:DAYLIGHT
BEGIN:STANDARD
TZNAME:EST
TZOFFSETFROM:-0400
TZOFFSETTO:-0500
DTSTART:20161106T060000
END:STANDARD
END:VTIMEZONE
BEGIN:VEVENT
UID:69ed2ea4dd2d0
DTSTART;TZID=America/Toronto:20170923T110000
SEQUENCE:0
TRANSP:TRANSPARENT
DTEND;TZID=America/Toronto:20170923T120000
URL:https://uwaterloo.ca/electrical-computer-engineering/events/ieee-lectur
 e-technologies-and-implementation-antidrone
LOCATION:EIT - Centre for Environmental and Information Technology 200 Univ
 ersity Avenue West Room 4152 Waterloo ON N2L 3G1 Canada
SUMMARY:IEEE Lecture: Technologies and Implementation of the Antidrone Syst
 em
CLASS:PUBLIC
DESCRIPTION:[IEEE Canada logo]\n\nIEEE KW SECTION VEHICULAR TECHNOLOGY CHAP
 TER DISTINGUISHED LECTURE\nTechnologies and Implementation of the Antidron
 e System
DTSTAMP:20260425T211412Z
END:VEVENT
END:VCALENDAR