BEGIN:VCALENDAR
VERSION:2.0
PRODID:-//Drupal iCal API//EN
X-WR-CALNAME:Events items teaser
X-WR-TIMEZONE:America/Toronto
BEGIN:VTIMEZONE
TZID:America/Toronto
X-LIC-LOCATION:America/Toronto
BEGIN:DAYLIGHT
TZNAME:EDT
TZOFFSETFROM:-0500
TZOFFSETTO:-0400
DTSTART:20170312T070000
END:DAYLIGHT
BEGIN:STANDARD
TZNAME:EST
TZOFFSETFROM:-0400
TZOFFSETTO:-0500
DTSTART:20171105T060000
END:STANDARD
END:VTIMEZONE
BEGIN:VEVENT
UID:69ed472096332
DTSTART;TZID=America/Toronto:20171215T110000
SEQUENCE:0
TRANSP:TRANSPARENT
DTEND;TZID=America/Toronto:20171215T120000
URL:https://uwaterloo.ca/electrical-computer-engineering/events/ieee-semina
 r-large-area-electronics-active-matrix-displays
LOCATION:EIT - Centre for Environmental and Information Technology 200 Univ
 ersity Avenue West Room 3151-3153 Waterloo ON N2L 3G1 Canada
SUMMARY:IEEE Seminar: Large Area Electronics for Active Matrix Displays &amp;\n
 Sensors
CLASS:PUBLIC
DESCRIPTION:[IEEE Canada logo]\n\nSPEAKER:  Dr. Ya-Hsiang Tai of National 
 Chiao Tung University
DTSTAMP:20260425T225840Z
END:VEVENT
END:VCALENDAR