BEGIN:VCALENDAR
VERSION:2.0
PRODID:-//Drupal iCal API//EN
X-WR-CALNAME:Events items teaser
X-WR-TIMEZONE:America/Toronto
BEGIN:VTIMEZONE
TZID:America/Toronto
X-LIC-LOCATION:America/Toronto
BEGIN:DAYLIGHT
TZNAME:EDT
TZOFFSETFROM:-0500
TZOFFSETTO:-0400
DTSTART:20170312T070000
END:DAYLIGHT
BEGIN:STANDARD
TZNAME:EST
TZOFFSETFROM:-0400
TZOFFSETTO:-0500
DTSTART:20171105T060000
END:STANDARD
END:VTIMEZONE
BEGIN:VEVENT
UID:69ed471e9d288
DTSTART;TZID=America/Toronto:20180309T140000
SEQUENCE:0
TRANSP:TRANSPARENT
DTEND;TZID=America/Toronto:20180309T150000
URL:https://uwaterloo.ca/electrical-computer-engineering/events/ieee-semina
 r-distribution-planning-including-topology
LOCATION:EIT 200 University Avenue West 3142 Waterloo ON N2L 3G1 Canada
SUMMARY:IEEE Seminar: Distribution Planning Including Topology Constraints
CLASS:PUBLIC
DESCRIPTION:[IEEE Canada logo]\n\nIEEE KW Section and the Department of Ele
 ctrical and Computer\nEngineering presents a seminar on:\n\n“DISTRIBUTIO
 N PLANNING INCLUDING TOPOLOGY CONSTRAINTS”\n\nSPEAKER: Prof. Alberto Ber
 izzi from the Politecnico di Milano\, Italy\n\nDATE: Friday March 9\, 2018
DTSTAMP:20260425T225838Z
END:VEVENT
END:VCALENDAR