BEGIN:VCALENDAR
VERSION:2.0
PRODID:-//Drupal iCal API//EN
X-WR-CALNAME:Events items teaser
X-WR-TIMEZONE:America/Toronto
BEGIN:VTIMEZONE
TZID:America/Toronto
X-LIC-LOCATION:America/Toronto
BEGIN:DAYLIGHT
TZNAME:EDT
TZOFFSETFROM:-0500
TZOFFSETTO:-0400
DTSTART:20180311T070000
END:DAYLIGHT
BEGIN:STANDARD
TZNAME:EST
TZOFFSETFROM:-0400
TZOFFSETTO:-0500
DTSTART:20171105T060000
END:STANDARD
END:VTIMEZONE
BEGIN:VEVENT
UID:69ed2ea66b262
DTSTART;TZID=America/Toronto:20180910T140000
SEQUENCE:0
TRANSP:TRANSPARENT
DTEND;TZID=America/Toronto:20180910T140000
URL:https://uwaterloo.ca/electrical-computer-engineering/events/distinguish
 ed-lecture-new-technology-allows-us-keep-our
LOCATION:EIT - Centre for Environmental and Information Technology 200 Univ
 ersity Avenue West Room 3142 Waterloo ON N2L 3G1 Canada
SUMMARY:Distinguished Lecture: \"New Technology Allows Us to Keep Our Lifes
 tyle\nand Save Energy\" by Dr. Frederick H. Abernathy
CLASS:PUBLIC
DESCRIPTION:\" NEW TECHNOLOGY ALLOWS US TO KEEP OUR LIFESTYLE AND SAVE ENER
 GY \"\n\n[Fred Abernathy]SPEAKER: Dr. Frederick H. Abernathy\, Gordon McKa
 y\nProfessor of Mechanical Engineering and Abbott and James Lawrence\nProf
 essor of Engineering\, Emeritus\, Faculty Associate\, Harvard\nUniversity 
 Center for the Environment\n\nABSTRACT:
DTSTAMP:20260425T211414Z
END:VEVENT
END:VCALENDAR