BEGIN:VCALENDAR
VERSION:2.0
PRODID:-//Drupal iCal API//EN
X-WR-CALNAME:Events items teaser
X-WR-TIMEZONE:America/Toronto
BEGIN:VTIMEZONE
TZID:America/Toronto
X-LIC-LOCATION:America/Toronto
BEGIN:DAYLIGHT
TZNAME:EDT
TZOFFSETFROM:-0500
TZOFFSETTO:-0400
DTSTART:20210314T070000
END:DAYLIGHT
BEGIN:STANDARD
TZNAME:EST
TZOFFSETFROM:-0400
TZOFFSETTO:-0500
DTSTART:20201101T060000
END:STANDARD
END:VTIMEZONE
BEGIN:VEVENT
UID:69ec9bf409404
DTSTART;TZID=America/Toronto:20210923T100000
SEQUENCE:0
TRANSP:TRANSPARENT
DTEND;TZID=America/Toronto:20210923T100000
URL:https://uwaterloo.ca/electrical-computer-engineering/events/distinguish
 ed-lecture-jong-hwan-kim-kt-endowed-chair
SUMMARY:Distinguished lecture - Jong-Hwan Kim\, KT Endowed Chair Professor\
 ,\nCollege of Engineering\, KAIST\, FIEEE
CLASS:PUBLIC
DESCRIPTION:TITLE: MACHINE INTELLIGENCE BASED ON INTELLIGENCE OPERATING\nAR
 CHITECTURE\n\nDate: September 23\, 2021\n\nTime: 10:00am\n\nRegister for t
 he webinar at:\nhttps://uwaterloo.zoom.us/webinar/register/WN_-UttZd51Qji2
 BYJYF0Whpg
DTSTAMP:20260425T104820Z
END:VEVENT
END:VCALENDAR