BEGIN:VCALENDAR
VERSION:2.0
PRODID:-//Drupal iCal API//EN
X-WR-CALNAME:Events items teaser
X-WR-TIMEZONE:America/Toronto
BEGIN:VTIMEZONE
TZID:America/Toronto
X-LIC-LOCATION:America/Toronto
BEGIN:DAYLIGHT
TZNAME:EDT
TZOFFSETFROM:-0500
TZOFFSETTO:-0400
DTSTART:20230312T070000
END:DAYLIGHT
BEGIN:STANDARD
TZNAME:EST
TZOFFSETFROM:-0400
TZOFFSETTO:-0500
DTSTART:20221106T060000
END:STANDARD
END:VTIMEZONE
BEGIN:VEVENT
UID:69e89ab761c44
DTSTART;TZID=America/Toronto:20230913T120000
SEQUENCE:0
TRANSP:TRANSPARENT
DTEND;TZID=America/Toronto:20230913T130000
URL:https://uwaterloo.ca/electrical-computer-engineering/events/ece-disting
 uished-lectureieee-eps-seminar-soft-electronic
LOCATION:Pearl Sullivan Engineering room 7303/7363) 200 University Ave West
  Waterloo ON N2L 3G1 Canada
SUMMARY:ECE distinguished lecture/IEEE EPS seminar: \"Soft Electronic and\n
 Microfluidic Systems for the Skin\"
CLASS:PUBLIC
DESCRIPTION:You are invited by the Department of Electrical and Computer\nE
 ngineering and the IEEE Electronics Packaging Society (EPS) Student\nChap
 ter at University of Waterloo to attend a distinguished lecture:\n\nSpeake
 r: Professor John A. Rogers\, McCormick School of Engineering\,\nNorthwe
 stern University\n\nDate: September 13\, 2023\n\nTime: 12:00pm \n\nLoca
 tion: PSE-7303/7363
DTSTAMP:20260422T095359Z
END:VEVENT
END:VCALENDAR