BEGIN:VCALENDAR
VERSION:2.0
PRODID:-//Drupal iCal API//EN
X-WR-CALNAME:Events items teaser
X-WR-TIMEZONE:America/Toronto
BEGIN:VTIMEZONE
TZID:America/Toronto
X-LIC-LOCATION:America/Toronto
BEGIN:DAYLIGHT
TZNAME:EDT
TZOFFSETFROM:-0500
TZOFFSETTO:-0400
DTSTART:20230312T070000
END:DAYLIGHT
BEGIN:STANDARD
TZNAME:EST
TZOFFSETFROM:-0400
TZOFFSETTO:-0500
DTSTART:20221106T060000
END:STANDARD
END:VTIMEZONE
BEGIN:VEVENT
UID:69ebafb2f1a25
DTSTART;TZID=America/Toronto:20230926T130000
SEQUENCE:0
TRANSP:TRANSPARENT
DTEND;TZID=America/Toronto:20230926T140000
URL:https://uwaterloo.ca/electrical-computer-engineering/events/ieee-solid-
 state-circuits-society-distinguished-lecture-low
LOCATION:EIT - Centre for Environmental and Information Technology 200 Univ
 ersity Avenue West Room - EIT 3142 Waterloo ON N2L 3G1 Canada
SUMMARY:IEEE Solid-State Circuits Society Distinguished Lecture: Low-Power
 \ncryo-CMOS Design for Quantum Computing Applications
CLASS:PUBLIC
DESCRIPTION:Speaker: Dr. Sudipto Chakraborty\, IBM T.J. Watson Research Cen
 ter\nDate:  Tuesday\, September 26\nTime: 1:00pm - 2:00pm  \nLocation:
  EIT-3142
DTSTAMP:20260424T180018Z
END:VEVENT
END:VCALENDAR