BEGIN:VCALENDAR
VERSION:2.0
PRODID:-//Drupal iCal API//EN
X-WR-CALNAME:Events items teaser
X-WR-TIMEZONE:America/Toronto
BEGIN:VTIMEZONE
TZID:America/Toronto
X-LIC-LOCATION:America/Toronto
BEGIN:DAYLIGHT
TZNAME:EDT
TZOFFSETFROM:-0500
TZOFFSETTO:-0400
DTSTART:20230312T070000
END:DAYLIGHT
BEGIN:STANDARD
TZNAME:EST
TZOFFSETFROM:-0400
TZOFFSETTO:-0500
DTSTART:20231105T060000
END:STANDARD
END:VTIMEZONE
BEGIN:VEVENT
UID:69ebfec52f762
DTSTART;TZID=America/Toronto:20231206T090000
SEQUENCE:0
TRANSP:TRANSPARENT
DTEND;TZID=America/Toronto:20231206T120000
URL:https://uwaterloo.ca/electrical-computer-engineering/events/phd-defense
 -notice-noninvasive-glucose-detection-using
SUMMARY:PhD Defense Notice - Noninvasive Glucose Detection Using Infrared\n
 Photoacoustic Spectroscopy and Machine Learning
CLASS:PUBLIC
DESCRIPTION:Candidate: Abdulrahman Aloraynan\nDate: December 6\, 2023\nTime
 : 9:00 AM - 12:00 PM\nPlace: Remote Attendance\nSupervisor(s): Ban\, Dayan
DTSTAMP:20260424T233741Z
END:VEVENT
END:VCALENDAR