BEGIN:VCALENDAR
VERSION:2.0
PRODID:-//Drupal iCal API//EN
X-WR-CALNAME:Events items teaser
X-WR-TIMEZONE:America/Toronto
BEGIN:VTIMEZONE
TZID:America/Toronto
X-LIC-LOCATION:America/Toronto
BEGIN:DAYLIGHT
TZNAME:EDT
TZOFFSETFROM:-0500
TZOFFSETTO:-0400
DTSTART:20250309T070000
END:DAYLIGHT
BEGIN:STANDARD
TZNAME:EST
TZOFFSETFROM:-0400
TZOFFSETTO:-0500
DTSTART:20241103T060000
END:STANDARD
END:VTIMEZONE
BEGIN:VEVENT
UID:69eac6c481936
DTSTART;TZID=America/Toronto:20250424T100000
SEQUENCE:0
TRANSP:TRANSPARENT
DTEND;TZID=America/Toronto:20250424T110000
URL:https://uwaterloo.ca/electrical-computer-engineering/events/phd-seminar
 -notice-study-hairpin-motor-insulation-under
SUMMARY:PhD Seminar Notice: A Study on Hairpin Motor Insulation under the\n
 Operation of Wide-Bandgap Power Converters in Electric Vehicles
CLASS:PUBLIC
DESCRIPTION:Candidate: Ali Kholgh Khiz\n\nDate: April 24\, 2025\n\nTime: 10
 :00 AM\n\nLocation: Online - contact the candidate for more information.
 \n\nSupervisor: Jayaram\, Sheshakamal\n\nAll are welcome!
DTSTAMP:20260424T012628Z
END:VEVENT
END:VCALENDAR