BEGIN:VCALENDAR
VERSION:2.0
PRODID:-//Drupal iCal API//EN
X-WR-CALNAME:Events items teaser
X-WR-TIMEZONE:America/Toronto
BEGIN:VTIMEZONE
TZID:America/Toronto
X-LIC-LOCATION:America/Toronto
BEGIN:DAYLIGHT
TZNAME:EDT
TZOFFSETFROM:-0500
TZOFFSETTO:-0400
DTSTART:20250309T070000
END:DAYLIGHT
BEGIN:STANDARD
TZNAME:EST
TZOFFSETFROM:-0400
TZOFFSETTO:-0500
DTSTART:20241103T060000
END:STANDARD
END:VTIMEZONE
BEGIN:VEVENT
UID:69eac6c589248
DTSTART;TZID=America/Toronto:20250425T130000
SEQUENCE:0
TRANSP:TRANSPARENT
DTEND;TZID=America/Toronto:20250425T140000
URL:https://uwaterloo.ca/electrical-computer-engineering/events/phd-seminar
 -notice-strain-balanced-ingaasinalas-0
LOCATION:EIT - Centre for Environmental and Information Technology 200 Univ
 ersity Avenue West Room 3151-53 Waterloo ON N2L 3G1 Canada
SUMMARY:PhD Seminar Notice: Strain-Balanced InGaAs/InAlAs Superlattices on\
 nInP(111)B for Terahertz Photoconductive Antennas
CLASS:PUBLIC
DESCRIPTION:Candidate: Seyed Ali Hosseini Farahabadi\n\nDate: April 25\, 20
 25\n\nTime: 1:00 PM\n\nLocation: EIT 3151-53\n\nSupervisor: Wasilewski\, Z
 big\n\nAll are welcome!
DTSTAMP:20260424T012629Z
END:VEVENT
END:VCALENDAR